BEGIN:VCALENDAR
VERSION:2.0
PRODID:-//wp-events-plugin.com//7.2.3.1//EN
TZID:Europe/Berlin
X-WR-TIMEZONE:Europe/Berlin
BEGIN:VEVENT
UID:7@cantine-ruin.de
DTSTART;TZID=Europe/Berlin:20260509T130000
DTEND;TZID=Europe/Berlin:20260509T170000
DTSTAMP:20260223T165218Z
URL:https://cantine-ruin.de/events/stopp-gewalt-gegen-frauen/
SUMMARY:Stopp Gewalt gegen Frauen
DESCRIPTION:Wir machen uns Stark!! Inforveranstalltung
ATTACH;FMTTYPE=image/jpeg:https://cantine-ruin.de/wp-content/uploads/2026/
 02/2550423b-01a2-440a-872f-a7a5be0f79d0.jpeg
LOCATION:Gössi\, Gößmannsreuth 8\, Kulmbach\, 95326\, Deutschland
X-APPLE-STRUCTURED-LOCATION;VALUE=URI;X-ADDRESS=Gößmannsreuth 8\, Kulmbac
 h\, 95326\, Deutschland;X-APPLE-RADIUS=100;X-TITLE=Gössi:geo:0,0
END:VEVENT
BEGIN:VTIMEZONE
TZID:Europe/Berlin
X-LIC-LOCATION:Europe/Berlin
BEGIN:DAYLIGHT
DTSTART:20260329T030000
TZOFFSETFROM:+0100
TZOFFSETTO:+0200
TZNAME:CEST
END:DAYLIGHT
END:VTIMEZONE
END:VCALENDAR